BEGIN:VCALENDAR
VERSION:2.0
PRODID:-//Stora Tuna Folkdansgille - ECPv6.15.20//NONSGML v1.0//EN
CALSCALE:GREGORIAN
METHOD:PUBLISH
X-ORIGINAL-URL:https://storatunafolkdansgille.se
X-WR-CALDESC:Händelser för Stora Tuna Folkdansgille
REFRESH-INTERVAL;VALUE=DURATION:PT1H
X-Robots-Tag:noindex
X-PUBLISHED-TTL:PT1H
BEGIN:VTIMEZONE
TZID:Europe/Stockholm
BEGIN:DAYLIGHT
TZOFFSETFROM:+0100
TZOFFSETTO:+0200
TZNAME:CEST
DTSTART:20250330T010000
END:DAYLIGHT
BEGIN:STANDARD
TZOFFSETFROM:+0200
TZOFFSETTO:+0100
TZNAME:CET
DTSTART:20251026T010000
END:STANDARD
BEGIN:DAYLIGHT
TZOFFSETFROM:+0100
TZOFFSETTO:+0200
TZNAME:CEST
DTSTART:20260329T010000
END:DAYLIGHT
BEGIN:STANDARD
TZOFFSETFROM:+0200
TZOFFSETTO:+0100
TZNAME:CET
DTSTART:20261025T010000
END:STANDARD
BEGIN:DAYLIGHT
TZOFFSETFROM:+0100
TZOFFSETTO:+0200
TZNAME:CEST
DTSTART:20270328T010000
END:DAYLIGHT
BEGIN:STANDARD
TZOFFSETFROM:+0200
TZOFFSETTO:+0100
TZNAME:CET
DTSTART:20271031T010000
END:STANDARD
END:VTIMEZONE
BEGIN:VEVENT
DTSTART;VALUE=DATE:20260301
DTEND;VALUE=DATE:20260302
DTSTAMP:20260419T170005
CREATED:20201207T082522Z
LAST-MODIFIED:20251215T171028Z
UID:876-1772323200-1772409599@storatunafolkdansgille.se
SUMMARY:Manusstopp Tunagillaren nr 2
DESCRIPTION:Manusstopp för Tunagillaren nr 2. Bidrag skickas till    tunagillaren@folkdansringen.se\nText som word-fil\, bilder som .jpg \n 
URL:https://storatunafolkdansgille.se/event/manusstopp-tunagillaren-nr-1/
END:VEVENT
BEGIN:VEVENT
DTSTART;TZID=Europe/Stockholm:20260301T140000
DTEND;TZID=Europe/Stockholm:20260301T144000
DTSTAMP:20260419T170005
CREATED:20251218T092548Z
LAST-MODIFIED:20251218T093815Z
UID:4173-1772373600-1772376000@storatunafolkdansgille.se
SUMMARY:Familjedans för barn från 3 år
DESCRIPTION:Barndans från 3 år för både nybörjare och de som dansat tidigare termin. Föräldrar får gärna vara med och dansa med sina barn!\nVi leker fram barnens dans- och rörelseintresse med enkla och roliga rörelser i takt med musik som utvecklar barns balans och koordination.\nMedlemsavgiften för 2026 är 340 kr/år. Betalas in antingen via bankgiro 325-5536 (ange namn på barnet som ska vara med) eller via Swish 123 145 07 33.\nDet går bra att prova dansa ett tillfälle innan medlemsavgift behöver betalas in. \nAnmälan sker via mail till: storatuna@folkdansringen.se\nPlats: Kvarnforsplan 2\, Borlänge. Vi dansar i Pelarsalen\, Forum i Kvarnsveden. Entre’ sker från Sveaborgsgatan\, källartrappa.\nKursledare: Marie Lindström och Carina Frelin\nFrågor besvaras av kursledare Marie Lindström\, 070-5429584
URL:https://storatunafolkdansgille.se/event/familjedans-for-barn-fran-3-ar-7/
END:VEVENT
BEGIN:VEVENT
DTSTART;TZID=Europe/Stockholm:20260301T144500
DTEND;TZID=Europe/Stockholm:20260301T153000
DTSTAMP:20260419T170005
CREATED:20251218T090321Z
LAST-MODIFIED:20251218T091259Z
UID:4149-1772376300-1772379000@storatunafolkdansgille.se
SUMMARY:Dans för barn från 5 år
DESCRIPTION:Barndans från 5 år för både nybörjare och de som dansat tidigare termin. Föräldrar får gärna vara med och dansa med sina barn!\nVi leker fram barnens dans- och rörelseintresse med enkla och roliga rörelser i takt med musik som utvecklar barns balans och koordination.\nMedlemsavgiften för 2026 är 340 kr/år. Betalas in antingen via bankgiro 325-5536 (ange namn på barnet som ska vara med) eller via Swish 123 145 07 33.\nDet går bra att prova dansa ett tillfälle innan medlemsavgift behöver betalas in. \nAnmälan sker via mail till: storatuna@folkdansringen.se\nPlats: Kvarnforsplan 2\, Borlänge. Vi dansar i Pelarsalen\, Forum i Kvarnsveden. Entre’ sker från Sveaborgsgatan\, källartrappa.\nKursledare: Marie Lindström och Carina Frelin\nFrågor besvaras av kursledare Marie Lindström\, 070-5429584
URL:https://storatunafolkdansgille.se/event/dans-for-barn-fran-5-ar-9/
END:VEVENT
BEGIN:VEVENT
DTSTART;TZID=Europe/Stockholm:20260302T183000
DTEND;TZID=Europe/Stockholm:20260302T210000
DTSTAMP:20260419T170005
CREATED:20231212T195228Z
LAST-MODIFIED:20251215T190015Z
UID:2831-1772476200-1772485200@storatunafolkdansgille.se
SUMMARY:Dräktsömnad
DESCRIPTION:Dräktrum och mötesrum\, Forum\, Kvarnsveden.
URL:https://storatunafolkdansgille.se/event/draktsomnad-24/
END:VEVENT
BEGIN:VEVENT
DTSTART;TZID=Europe/Stockholm:20260303T190000
DTEND;TZID=Europe/Stockholm:20260303T210000
DTSTAMP:20260419T170005
CREATED:20231212T205150Z
LAST-MODIFIED:20251215T191909Z
UID:2914-1772564400-1772571600@storatunafolkdansgille.se
SUMMARY:Vuxengrupp Dans
DESCRIPTION:Pelarsalen\, Forum\, Kvarnsveden\nIngång källartrappa från Sveaborgsgatan.
URL:https://storatunafolkdansgille.se/event/vuxengrupp-dans-27/
END:VEVENT
BEGIN:VEVENT
DTSTART;TZID=Europe/Stockholm:20260305T190000
DTEND;TZID=Europe/Stockholm:20260305T203000
DTSTAMP:20260419T170005
CREATED:20251201T091928Z
LAST-MODIFIED:20251201T091928Z
UID:4028-1772737200-1772742600@storatunafolkdansgille.se
SUMMARY:Nybörjarkurs i gammeldans
DESCRIPTION:Nybörjarkurs i gammeldans\, V9-13\nTorsdagar kl. 19-20.30\, Gäller 26 februari\, 5 mars\, 12 mars\, 19 mars och 26 mars\nUtlärning av grunderna i svensk gammeldans (schottis\, snoa\, polka\, vals\, hambo och polska). Inga förkunskaper krävs!\nViktigt att ta med bra skor med mycket glid under fotsulan! (ej gummisula)\nKostnad: 250kr för alla 5 tillfällen. Betalas med Swish på plats.\nAnmälan senast 22 februari till storatuna@folkdansringen.se
URL:https://storatunafolkdansgille.se/event/nyborjarkurs-i-gammeldans/
END:VEVENT
BEGIN:VEVENT
DTSTART;TZID=Europe/Stockholm:20260307T150000
DTEND;TZID=Europe/Stockholm:20260307T200000
DTSTAMP:20260419T170005
CREATED:20251215T171543Z
LAST-MODIFIED:20260212T095300Z
UID:4080-1772895600-1772913600@storatunafolkdansgille.se
SUMMARY:Folkdansringen Dalarnas Distriktsstämma i Forum\, Borlänge
DESCRIPTION:Fika serveras c:a 14.30 i Pelarsalen   Ta med inneskor.\nDistriktsstämma 15.00 i Filmsalen\nSamkväm  c:a 17.00 i Pelarsalen föranmälan krävs. Kostnad 150Kr per person.\nIngång Pelarsalen\, från Sveaborgsgatan\nStora Tuna Folkdansgille arrangerar\nHandlingar på papper till stämman\, finns i lokalen. \n  \n 
URL:https://storatunafolkdansgille.se/event/folkdansringen-dalarnas-arsstamma/
END:VEVENT
BEGIN:VEVENT
DTSTART;TZID=Europe/Stockholm:20260309T100000
DTEND;TZID=Europe/Stockholm:20260309T123000
DTSTAMP:20260419T170005
CREATED:20260306T081830Z
LAST-MODIFIED:20260306T081939Z
UID:4283-1773050400-1773059400@storatunafolkdansgille.se
SUMMARY:Extra dräktsömnad för medlemmar
DESCRIPTION:Vecka 11 måndag 9/3 kl 10.00-12.30.\nI dräktrummet i Forum. \nFrågor till Mariann Johansson\n070-740 72 11
URL:https://storatunafolkdansgille.se/event/extra-draktsomnad-for-medlemmar/
END:VEVENT
BEGIN:VEVENT
DTSTART;TZID=Europe/Stockholm:20260309T183000
DTEND;TZID=Europe/Stockholm:20260309T210000
DTSTAMP:20260419T170005
CREATED:20231212T195314Z
LAST-MODIFIED:20251215T190223Z
UID:2833-1773081000-1773090000@storatunafolkdansgille.se
SUMMARY:Dräktsömnad
DESCRIPTION:Dräktrum och kansli\, Forum\, Kvarnsveden.
URL:https://storatunafolkdansgille.se/event/draktsomnad-25/
END:VEVENT
BEGIN:VEVENT
DTSTART;TZID=Europe/Stockholm:20260310T190000
DTEND;TZID=Europe/Stockholm:20260310T210000
DTSTAMP:20260419T170005
CREATED:20231212T205328Z
LAST-MODIFIED:20251215T192857Z
UID:2916-1773169200-1773176400@storatunafolkdansgille.se
SUMMARY:Vuxengrupp Dans
DESCRIPTION:Pelarsalen\, Forum\, Kvarnsveden\nIngång källartrappa från Sveaborgsgatan.
URL:https://storatunafolkdansgille.se/event/vuxengrupp-dans-28/
END:VEVENT
BEGIN:VEVENT
DTSTART;TZID=Europe/Stockholm:20260311T183000
DTEND;TZID=Europe/Stockholm:20260311T200000
DTSTAMP:20260419T170005
CREATED:20251215T185437Z
LAST-MODIFIED:20251215T185437Z
UID:4088-1773253800-1773259200@storatunafolkdansgille.se
SUMMARY:Styrelsemöte 3 2026
DESCRIPTION:Kansliet\, Forum\, Kvarnsveden.
URL:https://storatunafolkdansgille.se/event/styrelsemote-3-2026/
END:VEVENT
BEGIN:VEVENT
DTSTART;TZID=Europe/Stockholm:20260312T190000
DTEND;TZID=Europe/Stockholm:20260312T203000
DTSTAMP:20260419T170005
CREATED:20251201T092012Z
LAST-MODIFIED:20251201T092012Z
UID:4030-1773342000-1773347400@storatunafolkdansgille.se
SUMMARY:Nybörjarkurs i gammeldans
DESCRIPTION:Nybörjarkurs i gammeldans\, V9-13\nTorsdagar kl. 19-20.30\, Gäller 26 februari\, 5 mars\, 12 mars\, 19 mars och 26 mars\nUtlärning av grunderna i svensk gammeldans (schottis\, snoa\, polka\, vals\, hambo och polska). Inga förkunskaper krävs!\nViktigt att ta med bra skor med mycket glid under fotsulan! (ej gummisula)\nKostnad: 250kr för alla 5 tillfällen. Betalas med Swish på plats.\nAnmälan senast 22 februari till storatuna@folkdansringen.se
URL:https://storatunafolkdansgille.se/event/nyborjarkurs-i-gammeldans-2/
END:VEVENT
BEGIN:VEVENT
DTSTART;TZID=Europe/Stockholm:20260315T140000
DTEND;TZID=Europe/Stockholm:20260315T144000
DTSTAMP:20260419T170005
CREATED:20251218T092638Z
LAST-MODIFIED:20251218T093705Z
UID:4175-1773583200-1773585600@storatunafolkdansgille.se
SUMMARY:Familjedans för barn från 3 år
DESCRIPTION:Barndans från 3 år för både nybörjare och de som dansat tidigare termin. Föräldrar får gärna vara med och dansa med sina barn!\nVi leker fram barnens dans- och rörelseintresse med enkla och roliga rörelser i takt med musik som utvecklar barns balans och koordination.\nMedlemsavgiften för 2026 är 340 kr/år. Betalas in antingen via bankgiro 325-5536 (ange namn på barnet som ska vara med) eller via Swish 123 145 07 33.\nDet går bra att prova dansa ett tillfälle innan medlemsavgift behöver betalas in. \nAnmälan sker via mail till: storatuna@folkdansringen.se\nPlats: Kvarnforsplan 2\, Borlänge. Vi dansar i Pelarsalen\, Forum i Kvarnsveden. Entre’ sker från Sveaborgsgatan\, källartrappa.\nKursledare: Marie Lindström och Carina Frelin\nFrågor besvaras av kursledare Marie Lindström\, 070-5429584
URL:https://storatunafolkdansgille.se/event/familjedans-for-barn-fran-3-ar-8/
END:VEVENT
BEGIN:VEVENT
DTSTART;TZID=Europe/Stockholm:20260315T144000
DTEND;TZID=Europe/Stockholm:20260315T153000
DTSTAMP:20260419T170005
CREATED:20251218T094333Z
LAST-MODIFIED:20251218T094333Z
UID:4193-1773585600-1773588600@storatunafolkdansgille.se
SUMMARY:Dans för barn från 5 år
DESCRIPTION:Barndans från 5 år för både nybörjare och de som dansat tidigare termin. Föräldrar får gärna vara med och dansa med sina barn!\nVi leker fram barnens dans- och rörelseintresse med enkla och roliga rörelser i takt med musik som utvecklar barns balans och koordination.\nMedlemsavgiften för 2026 är 340 kr/år. Betalas in antingen via bankgiro 325-5536 (ange namn på barnet som ska vara med) eller via Swish 123 145 07 33.\nDet går bra att prova dansa ett tillfälle innan medlemsavgift behöver betalas in. \nAnmälan sker via mail till: storatuna@folkdansringen.se\nPlats: Kvarnforsplan 2\, Borlänge. Vi dansar i Pelarsalen\, Forum i Kvarnsveden. Entre’ sker från Sveaborgsgatan\, källartrappa.\nKursledare: Marie Lindström och Carina Frelin\nFrågor besvaras av kursledare Marie Lindström\, 070-5429584
URL:https://storatunafolkdansgille.se/event/dans-for-barn-fran-5-ar-14/
END:VEVENT
BEGIN:VEVENT
DTSTART;TZID=Europe/Stockholm:20260316T183000
DTEND;TZID=Europe/Stockholm:20260316T210000
DTSTAMP:20260419T170005
CREATED:20231212T195452Z
LAST-MODIFIED:20251215T190531Z
UID:2835-1773685800-1773694800@storatunafolkdansgille.se
SUMMARY:Dräktsömnad
DESCRIPTION:Dräktrum och kansli\, Forum\, Kvarnsveden.
URL:https://storatunafolkdansgille.se/event/draktsomnad-26/
END:VEVENT
BEGIN:VEVENT
DTSTART;TZID=Europe/Stockholm:20260317T190000
DTEND;TZID=Europe/Stockholm:20260317T210000
DTSTAMP:20260419T170005
CREATED:20231212T205423Z
LAST-MODIFIED:20251215T193016Z
UID:2918-1773774000-1773781200@storatunafolkdansgille.se
SUMMARY:Vuxengrupp Dans
DESCRIPTION:Pelarsalen\, Forum\, Kvarnsveden\nIngång källartrappa från Sveaborgsgatan.
URL:https://storatunafolkdansgille.se/event/vuxengrupp-dans-29/
END:VEVENT
BEGIN:VEVENT
DTSTART;TZID=Europe/Stockholm:20260319T190000
DTEND;TZID=Europe/Stockholm:20260319T203000
DTSTAMP:20260419T170005
CREATED:20251201T092105Z
LAST-MODIFIED:20251201T092105Z
UID:4032-1773946800-1773952200@storatunafolkdansgille.se
SUMMARY:Nybörjarkurs i gammeldans
DESCRIPTION:Nybörjarkurs i gammeldans\, V9-13\nTorsdagar kl. 19-20.30\, Gäller 26 februari\, 5 mars\, 12 mars\, 19 mars och 26 mars\nUtlärning av grunderna i svensk gammeldans (schottis\, snoa\, polka\, vals\, hambo och polska). Inga förkunskaper krävs!\nViktigt att ta med bra skor med mycket glid under fotsulan! (ej gummisula)\nKostnad: 250kr för alla 5 tillfällen. Betalas med Swish på plats.\nAnmälan senast 22 februari till storatuna@folkdansringen.se
URL:https://storatunafolkdansgille.se/event/nyborjarkurs-i-gammeldans-3/
END:VEVENT
BEGIN:VEVENT
DTSTART;TZID=Europe/Stockholm:20260323T100000
DTEND;TZID=Europe/Stockholm:20260323T123000
DTSTAMP:20260419T170005
CREATED:20260306T082128Z
LAST-MODIFIED:20260306T082128Z
UID:4286-1774260000-1774269000@storatunafolkdansgille.se
SUMMARY:Extra dräktsömnad för medlemmar
DESCRIPTION:Vecka 13 måndag 23/3 kl 10.00-12.30.\nI dräktrummet i Forum. \nFrågor till Mariann Johansson\n070-740 72 11
URL:https://storatunafolkdansgille.se/event/extra-draktsomnad-for-medlemmar-2/
END:VEVENT
BEGIN:VEVENT
DTSTART;TZID=Europe/Stockholm:20260323T183000
DTEND;TZID=Europe/Stockholm:20260323T210000
DTSTAMP:20260419T170005
CREATED:20231212T200019Z
LAST-MODIFIED:20251215T190401Z
UID:2839-1774290600-1774299600@storatunafolkdansgille.se
SUMMARY:Dräktsömnad
DESCRIPTION:Dräktrum och kansli\, Forum\, Kvarnsveden.
URL:https://storatunafolkdansgille.se/event/draktsomnad-27/
END:VEVENT
BEGIN:VEVENT
DTSTART;TZID=Europe/Stockholm:20260324T190000
DTEND;TZID=Europe/Stockholm:20260324T210000
DTSTAMP:20260419T170005
CREATED:20231213T191417Z
LAST-MODIFIED:20251215T193129Z
UID:2953-1774378800-1774386000@storatunafolkdansgille.se
SUMMARY:Vuxengrupp Dans
DESCRIPTION:Pelarsalen\, Forum\, Kvarnsveden\nIngång källartrappa från Sveaborgsgatan.
URL:https://storatunafolkdansgille.se/event/vuxengrupp-dans-30/
END:VEVENT
BEGIN:VEVENT
DTSTART;TZID=Europe/Stockholm:20260326T190000
DTEND;TZID=Europe/Stockholm:20260326T203000
DTSTAMP:20260419T170005
CREATED:20251201T092143Z
LAST-MODIFIED:20251201T092143Z
UID:4034-1774551600-1774557000@storatunafolkdansgille.se
SUMMARY:Nybörjarkurs i gammeldans
DESCRIPTION:Nybörjarkurs i gammeldans\, V9-13\nTorsdagar kl. 19-20.30\, Gäller 26 februari\, 5 mars\, 12 mars\, 19 mars och 26 mars\nUtlärning av grunderna i svensk gammeldans (schottis\, snoa\, polka\, vals\, hambo och polska). Inga förkunskaper krävs!\nViktigt att ta med bra skor med mycket glid under fotsulan! (ej gummisula)\nKostnad: 250kr för alla 5 tillfällen. Betalas med Swish på plats.\nAnmälan senast 22 februari till storatuna@folkdansringen.se
URL:https://storatunafolkdansgille.se/event/nyborjarkurs-i-gammeldans-9/
END:VEVENT
BEGIN:VEVENT
DTSTART;TZID=Europe/Stockholm:20260327T183000
DTEND;TZID=Europe/Stockholm:20260327T200000
DTSTAMP:20260419T170005
CREATED:20251215T185620Z
LAST-MODIFIED:20251215T185620Z
UID:4090-1774636200-1774641600@storatunafolkdansgille.se
SUMMARY:Gillesfredag   alla medlemmar är välkomna att anmäla sig
DESCRIPTION:Inbjudan kommer.
URL:https://storatunafolkdansgille.se/event/gillesfredag-alla-medlemmar-ar-valkomna-att-anmala-sig/
END:VEVENT
BEGIN:VEVENT
DTSTART;TZID=Europe/Stockholm:20260329T140000
DTEND;TZID=Europe/Stockholm:20260329T144000
DTSTAMP:20260419T170005
CREATED:20251218T092729Z
LAST-MODIFIED:20251218T093551Z
UID:4177-1774792800-1774795200@storatunafolkdansgille.se
SUMMARY:Familjedans för barn från 3 år
DESCRIPTION:Barndans från 3 år för både nybörjare och de som dansat tidigare termin. Föräldrar får gärna vara med och dansa med sina barn!\nVi leker fram barnens dans- och rörelseintresse med enkla och roliga rörelser i takt med musik som utvecklar barns balans och koordination.\nMedlemsavgiften för 2026 är 340 kr/år. Betalas in antingen via bankgiro 325-5536 (ange namn på barnet som ska vara med) eller via Swish 123 145 07 33.\nDet går bra att prova dansa ett tillfälle innan medlemsavgift behöver betalas in. \nAnmälan sker via mail till: storatuna@folkdansringen.se\nPlats: Kvarnforsplan 2\, Borlänge. Vi dansar i Pelarsalen\, Forum i Kvarnsveden. Entre’ sker från Sveaborgsgatan\, källartrappa.\nKursledare: Marie Lindström och Carina Frelin\nFrågor besvaras av kursledare Marie Lindström\, 070-5429584
URL:https://storatunafolkdansgille.se/event/familjedans-for-barn-fran-3-ar-9/
END:VEVENT
BEGIN:VEVENT
DTSTART;TZID=Europe/Stockholm:20260329T144500
DTEND;TZID=Europe/Stockholm:20260329T153000
DTSTAMP:20260419T170005
CREATED:20251218T090432Z
LAST-MODIFIED:20251218T091115Z
UID:4151-1774795500-1774798200@storatunafolkdansgille.se
SUMMARY:Dans för barn från 5 år
DESCRIPTION:Barndans från 5 år för både nybörjare och de som dansat tidigare termin. Föräldrar får gärna vara med och dansa med sina barn!\nVi leker fram barnens dans- och rörelseintresse med enkla och roliga rörelser i takt med musik som utvecklar barns balans och koordination.\nMedlemsavgiften för 2026 är 340 kr/år. Betalas in antingen via bankgiro 325-5536 (ange namn på barnet som ska vara med) eller via Swish 123 145 07 33.\nDet går bra att prova dansa ett tillfälle innan medlemsavgift behöver betalas in. \nAnmälan sker via mail till: storatuna@folkdansringen.se\nPlats: Kvarnforsplan 2\, Borlänge. Vi dansar i Pelarsalen\, Forum i Kvarnsveden. Entre’ sker från Sveaborgsgatan\, källartrappa.\nKursledare: Marie Lindström och Carina Frelin\nFrågor besvaras av kursledare Marie Lindström\, 070-5429584
URL:https://storatunafolkdansgille.se/event/dans-for-barn-fran-5-ar-10/
END:VEVENT
BEGIN:VEVENT
DTSTART;TZID=Europe/Stockholm:20260330T183000
DTEND;TZID=Europe/Stockholm:20260330T210000
DTSTAMP:20260419T170005
CREATED:20231212T200347Z
LAST-MODIFIED:20251215T192140Z
UID:2843-1774895400-1774904400@storatunafolkdansgille.se
SUMMARY:Dräktsömnad
DESCRIPTION:Dräktrum och kansli\, Forum\, Kvarnsveden.
URL:https://storatunafolkdansgille.se/event/draktsomnad-28/
END:VEVENT
BEGIN:VEVENT
DTSTART;TZID=Europe/Stockholm:20260331T190000
DTEND;TZID=Europe/Stockholm:20260331T210000
DTSTAMP:20260419T170005
CREATED:20251215T193312Z
LAST-MODIFIED:20251215T193312Z
UID:4110-1774983600-1774990800@storatunafolkdansgille.se
SUMMARY:Vuxengrupp Dans
DESCRIPTION:Pelarsalen\, Forum\, Kvarnsveden\nIngång källartrappa från Sveaborgsgatan.
URL:https://storatunafolkdansgille.se/event/vuxengrupp-dans-2/
END:VEVENT
END:VCALENDAR