BEGIN:VCALENDAR
VERSION:2.0
PRODID:-//Stora Tuna Folkdansgille - ECPv6.15.20//NONSGML v1.0//EN
CALSCALE:GREGORIAN
METHOD:PUBLISH
X-ORIGINAL-URL:https://storatunafolkdansgille.se
X-WR-CALDESC:Händelser för Stora Tuna Folkdansgille
REFRESH-INTERVAL;VALUE=DURATION:PT1H
X-Robots-Tag:noindex
X-PUBLISHED-TTL:PT1H
BEGIN:VTIMEZONE
TZID:Europe/Stockholm
BEGIN:DAYLIGHT
TZOFFSETFROM:+0100
TZOFFSETTO:+0200
TZNAME:CEST
DTSTART:20240331T010000
END:DAYLIGHT
BEGIN:STANDARD
TZOFFSETFROM:+0200
TZOFFSETTO:+0100
TZNAME:CET
DTSTART:20241027T010000
END:STANDARD
BEGIN:DAYLIGHT
TZOFFSETFROM:+0100
TZOFFSETTO:+0200
TZNAME:CEST
DTSTART:20250330T010000
END:DAYLIGHT
BEGIN:STANDARD
TZOFFSETFROM:+0200
TZOFFSETTO:+0100
TZNAME:CET
DTSTART:20251026T010000
END:STANDARD
BEGIN:DAYLIGHT
TZOFFSETFROM:+0100
TZOFFSETTO:+0200
TZNAME:CEST
DTSTART:20260329T010000
END:DAYLIGHT
BEGIN:STANDARD
TZOFFSETFROM:+0200
TZOFFSETTO:+0100
TZNAME:CET
DTSTART:20261025T010000
END:STANDARD
END:VTIMEZONE
BEGIN:VEVENT
DTSTART;TZID=Europe/Stockholm:20251103T183000
DTEND;TZID=Europe/Stockholm:20251103T210000
DTSTAMP:20260420T102257
CREATED:20240714T073306Z
LAST-MODIFIED:20250707T144243Z
UID:3238-1762194600-1762203600@storatunafolkdansgille.se
SUMMARY:Dräktsömnad
DESCRIPTION:Dräktrum\, Forum Kvarnsveden\, ingång A från parkering.
URL:https://storatunafolkdansgille.se/event/draktsomnad-39/
END:VEVENT
BEGIN:VEVENT
DTSTART;TZID=Europe/Stockholm:20251104T190000
DTEND;TZID=Europe/Stockholm:20251104T210000
DTSTAMP:20260420T102257
CREATED:20240714T083850Z
LAST-MODIFIED:20250903T144334Z
UID:3296-1762282800-1762290000@storatunafolkdansgille.se
SUMMARY:Vuxengrupp\, Dans
DESCRIPTION:Vi dansar i Pelarsalen\, Forum i Kvarnsveden. Entre’ sker från Sveaborgsgatan\, källartrappa.
URL:https://storatunafolkdansgille.se/event/vuxengrupp-dans-44/
CATEGORIES:Dans vuxna
END:VEVENT
BEGIN:VEVENT
DTSTART;TZID=Europe/Stockholm:20251109T150000
DTEND;TZID=Europe/Stockholm:20251109T154000
DTSTAMP:20260420T102257
CREATED:20250527T152503Z
LAST-MODIFIED:20250707T174535Z
UID:3820-1762700400-1762702800@storatunafolkdansgille.se
SUMMARY:Familjedans för barn från 3 år    OBS 15.00-15.40 denna gång
DESCRIPTION:Barndans från 3 år för både nybörjare och de som dansat tidigare termin. Föräldrar får gärna vara med och dansa med sina barn!\nVi leker fram barnens dans- och rörelseintresse med enkla och roliga rörelser i takt med musik som utvecklar barns balans och koordination.\nMedlemsavgiften för 2025 är 330 kr/år. Betalas in antingen via bankgiro 325-5536 (ange namn på barnet som ska vara med) eller via Swish 123 145 07 33.\nDet går bra att prova dansa ett tillfälle innan medlemsavgift behöver betalas in. \nAnmälan sker via mail till: storatuna@folkdansringen.se\nPlats: Kvarnforsplan 2\, Borlänge. Vi dansar i Pelarsalen\, Forum i Kvarnsveden. Entre’ sker från Sveaborgsgatan\, källartrappa.\nKursledare: Marie Lindström och Carina Frelin\nFrågor besvaras av kursledare Marie Lindström\, 070-5429584
URL:https://storatunafolkdansgille.se/event/familjedans-for-barn-fran-3-ar-preliminar-tid/
END:VEVENT
BEGIN:VEVENT
DTSTART;TZID=Europe/Stockholm:20251109T154500
DTEND;TZID=Europe/Stockholm:20251109T163000
DTSTAMP:20260420T102257
CREATED:20250527T153356Z
LAST-MODIFIED:20250707T180315Z
UID:3832-1762703100-1762705800@storatunafolkdansgille.se
SUMMARY:Dans för barn från 5 år     OBS 15.45-16.30 denna gång
DESCRIPTION:Barndans från 5 år för både nybörjare och de som dansat tidigare termin. Föräldrar får gärna vara med och dansa med sina barn!\nVi leker fram barnens dans- och rörelseintresse med enkla och roliga rörelser i takt med musik som utvecklar barns balans och koordination.\nMedlemsavgiften för 2025 är 330 kr/år. Betalas in antingen via bankgiro 325-5536 (ange namn på barnet som ska vara med) eller via Swish 123 145 07 33.\nDet går bra att prova dansa ett tillfälle innan medlemsavgift behöver betalas in. \nAnmälan sker via mail till: storatuna@folkdansringen.se\nPlats: Kvarnforsplan 2\, Borlänge. Vi dansar i Pelarsalen\, Forum i Kvarnsveden. Entre’ sker från Sveaborgsgatan\, källartrappa.\nKursledare: Marie Lindström och Carina Frelin\nFrågor besvaras av kursledare Marie Lindström\, 070-5429584
URL:https://storatunafolkdansgille.se/event/dans-for-barn-fran-5-ar-preliminar-tid/
END:VEVENT
BEGIN:VEVENT
DTSTART;TZID=Europe/Stockholm:20251110T183000
DTEND;TZID=Europe/Stockholm:20251110T210000
DTSTAMP:20260420T102257
CREATED:20240714T073545Z
LAST-MODIFIED:20250707T144351Z
UID:3240-1762799400-1762808400@storatunafolkdansgille.se
SUMMARY:Dräktsömnad
DESCRIPTION:Dräktrum\, Forum Kvarnsveden\, ingång A från parkering.
URL:https://storatunafolkdansgille.se/event/draktsomnad-40/
END:VEVENT
BEGIN:VEVENT
DTSTART;TZID=Europe/Stockholm:20251111T190000
DTEND;TZID=Europe/Stockholm:20251111T210000
DTSTAMP:20260420T102257
CREATED:20240714T083715Z
LAST-MODIFIED:20250903T144256Z
UID:3294-1762887600-1762894800@storatunafolkdansgille.se
SUMMARY:Vuxengrupp\, Dans
DESCRIPTION:Vi dansar i Pelarsalen\, Forum i Kvarnsveden. Entre’ sker från Sveaborgsgatan\, källartrappa.
URL:https://storatunafolkdansgille.se/event/vuxengrupp-dans-43/
CATEGORIES:Dans vuxna
END:VEVENT
BEGIN:VEVENT
DTSTART;TZID=Europe/Stockholm:20251112T190000
DTEND;TZID=Europe/Stockholm:20251112T210000
DTSTAMP:20260420T102257
CREATED:20240714T120738Z
LAST-MODIFIED:20250707T153654Z
UID:3323-1762974000-1762981200@storatunafolkdansgille.se
SUMMARY:Ordinarie medlemsmöte  mera info kommer
DESCRIPTION:Ordinarie medlemsmöte i gillets Dräktrum i Forum. Mötet börjar 19.00. Kom en stund innan så hinner du fika.\nHandlingar inför mötet finns under Våra egna sidor. Handlingar på papper finns vid mötet.\nPreliminär föredragningslista: \nKallelse till ordinarie medlemsmöte 2025\nStora Tuna folkdansgille  \nOnsdag 12 november kl. 19.00 i Dräktrummet i Forum  \nFika serveras från kl 18.30 \nFörslag till föredragningslista enligt våra stadgar: \nAlla medlemmar hälsas välkomna! \n/ Styrelsen
URL:https://storatunafolkdansgille.se/event/ordinarie-medlemsmote/
END:VEVENT
BEGIN:VEVENT
DTSTART;VALUE=DATE:20251114
DTEND;VALUE=DATE:20251115
DTSTAMP:20260420T102257
CREATED:20250929T073326Z
LAST-MODIFIED:20250929T073703Z
UID:3962-1763078400-1763164799@storatunafolkdansgille.se
SUMMARY:Bakning av Rågåkerskakor
DESCRIPTION:Aspeboda bagarstuga vid kyrkan. Detaljer kommer senare.
URL:https://storatunafolkdansgille.se/event/bakning-av-ragakerskakor/
END:VEVENT
BEGIN:VEVENT
DTSTART;VALUE=DATE:20251114
DTEND;VALUE=DATE:20251115
DTSTAMP:20260420T102257
CREATED:20251006T075154Z
LAST-MODIFIED:20251006T075154Z
UID:3971-1763078400-1763164799@storatunafolkdansgille.se
SUMMARY:Gillesfredag flyttad till 21 november
DESCRIPTION:14 nov. är det bakning hela dagen. Därför är Gillesfredag framflyttad en vecka.
URL:https://storatunafolkdansgille.se/event/gillesfredag-flyttad-till-21-november/
END:VEVENT
BEGIN:VEVENT
DTSTART;VALUE=DATE:20251115
DTEND;VALUE=DATE:20251116
DTSTAMP:20260420T102257
CREATED:20250929T073433Z
LAST-MODIFIED:20250929T073433Z
UID:3964-1763164800-1763251199@storatunafolkdansgille.se
SUMMARY:Bakning av Rågåkerskakor
DESCRIPTION:Aspeboda bagarstuga vid kyrkan.
URL:https://storatunafolkdansgille.se/event/bakning-av-ragakerskakor-2/
END:VEVENT
BEGIN:VEVENT
DTSTART;VALUE=DATE:20251116
DTEND;VALUE=DATE:20251117
DTSTAMP:20260420T102257
CREATED:20250929T073526Z
LAST-MODIFIED:20250929T073526Z
UID:3966-1763251200-1763337599@storatunafolkdansgille.se
SUMMARY:Bakning av Rågåkerskakor
DESCRIPTION:Aspeboda bagarstuga vid kyrkan.
URL:https://storatunafolkdansgille.se/event/bakning-av-ragakerskakor-3/
END:VEVENT
BEGIN:VEVENT
DTSTART;TZID=Europe/Stockholm:20251117T183000
DTEND;TZID=Europe/Stockholm:20251117T210000
DTSTAMP:20260420T102257
CREATED:20240714T073643Z
LAST-MODIFIED:20250707T144447Z
UID:3242-1763404200-1763413200@storatunafolkdansgille.se
SUMMARY:Dräktsömnad
DESCRIPTION:Dräktrum\, Forum Kvarnsveden\, ingång A från parkering.
URL:https://storatunafolkdansgille.se/event/draktsomnad-41/
END:VEVENT
BEGIN:VEVENT
DTSTART;TZID=Europe/Stockholm:20251118T190000
DTEND;TZID=Europe/Stockholm:20251118T210000
DTSTAMP:20260420T102257
CREATED:20250707T171020Z
LAST-MODIFIED:20250903T144216Z
UID:3882-1763492400-1763499600@storatunafolkdansgille.se
SUMMARY:Vuxengrupp\, Dans
DESCRIPTION:Vi dansar i Pelarsalen\, Forum i Kvarnsveden. Entre’ sker från Sveaborgsgatan\, källartrappa.
URL:https://storatunafolkdansgille.se/event/vuxengrupp-dans/
END:VEVENT
BEGIN:VEVENT
DTSTART;TZID=Europe/Stockholm:20251119T183000
DTEND;TZID=Europe/Stockholm:20251119T200000
DTSTAMP:20260420T102257
CREATED:20211213T063437Z
LAST-MODIFIED:20251119T095950Z
UID:1569-1763577000-1763582400@storatunafolkdansgille.se
SUMMARY:Styrelsemöte 8   flyttas till 3 december
DESCRIPTION:Forum/Kansli
URL:https://storatunafolkdansgille.se/event/styrelsemote-2-2/
END:VEVENT
BEGIN:VEVENT
DTSTART;VALUE=DATE:20251121
DTEND;VALUE=DATE:20251122
DTSTAMP:20260420T102257
CREATED:20240714T121905Z
LAST-MODIFIED:20251006T075038Z
UID:3330-1763683200-1763769599@storatunafolkdansgille.se
SUMMARY:Gillesfredag Ny dag\,mera info kommer
DESCRIPTION:14 nov. är det bakning hela dagen. Därför är Gillesfredag framflyttad en vecka.
URL:https://storatunafolkdansgille.se/event/matgrupp-social-traff-3/
END:VEVENT
BEGIN:VEVENT
DTSTART;TZID=Europe/Stockholm:20251123T140000
DTEND;TZID=Europe/Stockholm:20251123T144000
DTSTAMP:20260420T102257
CREATED:20250707T174238Z
LAST-MODIFIED:20250707T174238Z
UID:3892-1763906400-1763908800@storatunafolkdansgille.se
SUMMARY:Barndans för barn från 3 år
DESCRIPTION:Barndans från 3 år för både nybörjare och de som dansat tidigare termin. Föräldrar får gärna vara med och dansa med sina barn!\nVi leker fram barnens dans- och rörelseintresse med enkla och roliga rörelser i takt med musik som utvecklar barns balans och koordination.\nMedlemsavgiften för 2025 är 330 kr/år. Betalas in antingen via bankgiro 325-5536 (ange namn på barnet som ska vara med) eller via Swish 123 145 07 33.\nDet går bra att prova dansa ett tillfälle innan medlemsavgift behöver betalas in. \nAnmälan sker via mail till: storatuna@folkdansringen.se\nPlats: Kvarnforsplan 2\, Borlänge. Vi dansar i Pelarsalen\, Forum i Kvarnsveden. Entre’ sker från Sveaborgsgatan\, källartrappa.\nKursledare: Marie Lindström och Carina Frelin\nFrågor besvaras av kursledare Marie Lindström\, 070-5429584 \n 
URL:https://storatunafolkdansgille.se/event/barndans-for-barn-fran-3-ar/
END:VEVENT
BEGIN:VEVENT
DTSTART;TZID=Europe/Stockholm:20251123T144500
DTEND;TZID=Europe/Stockholm:20251123T153000
DTSTAMP:20260420T102257
CREATED:20250527T153510Z
LAST-MODIFIED:20250707T180459Z
UID:3834-1763909100-1763911800@storatunafolkdansgille.se
SUMMARY:Dans för barn från 5 år
DESCRIPTION:Barndans från 5 år för både nybörjare och de som dansat tidigare termin. Föräldrar får gärna vara med och dansa med sina barn!\nVi leker fram barnens dans- och rörelseintresse med enkla och roliga rörelser i takt med musik som utvecklar barns balans och koordination.\nMedlemsavgiften för 2025 är 330 kr/år. Betalas in antingen via bankgiro 325-5536 (ange namn på barnet som ska vara med) eller via Swish 123 145 07 33.\nDet går bra att prova dansa ett tillfälle innan medlemsavgift behöver betalas in. \nAnmälan sker via mail till: storatuna@folkdansringen.se\nPlats: Kvarnforsplan 2\, Borlänge. Vi dansar i Pelarsalen\, Forum i Kvarnsveden. Entre’ sker från Sveaborgsgatan\, källartrappa.\nKursledare: Marie Lindström och Carina Frelin\nFrågor besvaras av kursledare Marie Lindström\, 070-5429584
URL:https://storatunafolkdansgille.se/event/dans-for-barn-fran-5-ar-5/
END:VEVENT
BEGIN:VEVENT
DTSTART;TZID=Europe/Stockholm:20251124T170000
DTEND;TZID=Europe/Stockholm:20251124T210000
DTSTAMP:20260420T102257
CREATED:20241027T141834Z
LAST-MODIFIED:20250707T145520Z
UID:3423-1764003600-1764018000@storatunafolkdansgille.se
SUMMARY:Julmarknadsarbete i Gubbstugan på Gammelgården\, Borlänge
DESCRIPTION:Julmarknadsarbete i Gubbstugan. Ta gärna med lingonris till kransbindning (anmäl gärna i förväg).\nFika serveras under kvällen (kaffe/te/hembakt).
URL:https://storatunafolkdansgille.se/event/julmarknadsarbete-i-gubbstugan-pa-gammelgarden-borlange/
END:VEVENT
BEGIN:VEVENT
DTSTART;TZID=Europe/Stockholm:20251125T170000
DTEND;TZID=Europe/Stockholm:20251125T210000
DTSTAMP:20260420T102257
CREATED:20251114T090735Z
LAST-MODIFIED:20251114T091008Z
UID:4007-1764090000-1764104400@storatunafolkdansgille.se
SUMMARY:Julmarknadsarbete i Gubbstugan på Gammelgården\, Borlänge
DESCRIPTION:Julmarknadsarbete i Gubbstugan. Ta gärna med lingonris till kransbindning (anmäl gärna i förväg).\nFika serveras under kvällen (kaffe/te/hembakt).
URL:https://storatunafolkdansgille.se/event/julmarknadsarbete/
END:VEVENT
BEGIN:VEVENT
DTSTART;VALUE=DATE:20251130
DTEND;VALUE=DATE:20251201
DTSTAMP:20260420T102257
CREATED:20240714T074050Z
LAST-MODIFIED:20250707T144923Z
UID:3248-1764460800-1764547199@storatunafolkdansgille.se
SUMMARY:1:a Advent
DESCRIPTION:
URL:https://storatunafolkdansgille.se/event/1a-advent-2/
CATEGORIES:Helgdagar
END:VEVENT
END:VCALENDAR