BEGIN:VCALENDAR
VERSION:2.0
PRODID:-//Stora Tuna Folkdansgille - ECPv6.15.20//NONSGML v1.0//EN
CALSCALE:GREGORIAN
METHOD:PUBLISH
X-ORIGINAL-URL:https://storatunafolkdansgille.se
X-WR-CALDESC:Händelser för Stora Tuna Folkdansgille
REFRESH-INTERVAL;VALUE=DURATION:PT1H
X-Robots-Tag:noindex
X-PUBLISHED-TTL:PT1H
BEGIN:VTIMEZONE
TZID:Europe/Stockholm
BEGIN:DAYLIGHT
TZOFFSETFROM:+0100
TZOFFSETTO:+0200
TZNAME:CEST
DTSTART:20240331T010000
END:DAYLIGHT
BEGIN:STANDARD
TZOFFSETFROM:+0200
TZOFFSETTO:+0100
TZNAME:CET
DTSTART:20241027T010000
END:STANDARD
BEGIN:DAYLIGHT
TZOFFSETFROM:+0100
TZOFFSETTO:+0200
TZNAME:CEST
DTSTART:20250330T010000
END:DAYLIGHT
BEGIN:STANDARD
TZOFFSETFROM:+0200
TZOFFSETTO:+0100
TZNAME:CET
DTSTART:20251026T010000
END:STANDARD
BEGIN:DAYLIGHT
TZOFFSETFROM:+0100
TZOFFSETTO:+0200
TZNAME:CEST
DTSTART:20260329T010000
END:DAYLIGHT
BEGIN:STANDARD
TZOFFSETFROM:+0200
TZOFFSETTO:+0100
TZNAME:CET
DTSTART:20261025T010000
END:STANDARD
END:VTIMEZONE
BEGIN:VEVENT
DTSTART;TZID=Europe/Stockholm:20250505T183000
DTEND;TZID=Europe/Stockholm:20250505T210000
DTSTAMP:20260423T103504
CREATED:20230822T170241Z
LAST-MODIFIED:20241129T212700Z
UID:2651-1746469800-1746478800@storatunafolkdansgille.se
SUMMARY:Folkdräktssömnad
DESCRIPTION:Forum\, Kvarnsveden\, Dräktrum
URL:https://storatunafolkdansgille.se/event/draktsomnad-6/
END:VEVENT
BEGIN:VEVENT
DTSTART;TZID=Europe/Stockholm:20250506T180000
DTEND;TZID=Europe/Stockholm:20250506T191500
DTSTAMP:20260423T103504
CREATED:20241202T170913Z
LAST-MODIFIED:20241202T170913Z
UID:3599-1746554400-1746558900@storatunafolkdansgille.se
SUMMARY:Dans för Ungdomar 13 år och uppåt
DESCRIPTION:Forum\, Kvarnsveden\, Pelarsalen.\nVårens sista träning.
URL:https://storatunafolkdansgille.se/event/dans-for-ungdomar-13-ar-och-uppat-2/
END:VEVENT
BEGIN:VEVENT
DTSTART;TZID=Europe/Stockholm:20250506T192000
DTEND;TZID=Europe/Stockholm:20250506T210000
DTSTAMP:20260423T103504
CREATED:20230302T201025Z
LAST-MODIFIED:20241202T171307Z
UID:2326-1746559200-1746565200@storatunafolkdansgille.se
SUMMARY:Tisdagsgruppen vuxna dans
DESCRIPTION:Forum\, Kvarnsveden\, Pelarsalen.
URL:https://storatunafolkdansgille.se/event/tisdagsgruppen-vuxna-dans-39/
END:VEVENT
BEGIN:VEVENT
DTSTART;TZID=Europe/Stockholm:20250512T183000
DTEND;TZID=Europe/Stockholm:20250512T210000
DTSTAMP:20260423T103504
CREATED:20230822T170732Z
LAST-MODIFIED:20241129T213425Z
UID:2664-1747074600-1747083600@storatunafolkdansgille.se
SUMMARY:Folkdräktssömnad
DESCRIPTION:Forum\, Kvarnsveden\, Dräktrum
URL:https://storatunafolkdansgille.se/event/draktsomnad-12/
END:VEVENT
BEGIN:VEVENT
DTSTART;TZID=Europe/Stockholm:20250513T191500
DTEND;TZID=Europe/Stockholm:20250513T210000
DTSTAMP:20260423T103504
CREATED:20230822T160856Z
LAST-MODIFIED:20241202T171547Z
UID:2583-1747163700-1747170000@storatunafolkdansgille.se
SUMMARY:Tisdagsgruppen vuxna dans
DESCRIPTION:Forum\, Kvarnsveden\, Pelarsalen.
URL:https://storatunafolkdansgille.se/event/vuxengrupp-dans-3/
END:VEVENT
BEGIN:VEVENT
DTSTART;TZID=Europe/Stockholm:20250514T183000
DTEND;TZID=Europe/Stockholm:20250514T200000
DTSTAMP:20260423T103504
CREATED:20210520T170442Z
LAST-MODIFIED:20241202T171120Z
UID:1246-1747247400-1747252800@storatunafolkdansgille.se
SUMMARY:Styrelsemöte 4-2025
DESCRIPTION:Forum\, Kvarnsveden\, Kansliet.
URL:https://storatunafolkdansgille.se/event/styrelsemote-5/
END:VEVENT
BEGIN:VEVENT
DTSTART;TZID=Europe/Stockholm:20250519T183000
DTEND;TZID=Europe/Stockholm:20250519T210000
DTSTAMP:20260423T103504
CREATED:20230822T170911Z
LAST-MODIFIED:20241129T213649Z
UID:2666-1747679400-1747688400@storatunafolkdansgille.se
SUMMARY:Folkdräktssömnad
DESCRIPTION:Forum\, Kvarnsveden\, Dräktrum
URL:https://storatunafolkdansgille.se/event/draktsomnad-13/
END:VEVENT
BEGIN:VEVENT
DTSTART;TZID=Europe/Stockholm:20250520T192000
DTEND;TZID=Europe/Stockholm:20250520T210000
DTSTAMP:20260423T103504
CREATED:20241202T171804Z
LAST-MODIFIED:20241202T171804Z
UID:3606-1747768800-1747774800@storatunafolkdansgille.se
SUMMARY:Tisdagsgruppen vuxna dans
DESCRIPTION:Forum\, Kvarnsveden\, Pelarsalen.
URL:https://storatunafolkdansgille.se/event/tisdagsgruppen-vuxna-dans-5/
END:VEVENT
BEGIN:VEVENT
DTSTART;TZID=Europe/Stockholm:20250526T190000
DTEND;TZID=Europe/Stockholm:20250526T210000
DTSTAMP:20260423T103504
CREATED:20230822T171012Z
LAST-MODIFIED:20241129T213930Z
UID:2668-1748286000-1748293200@storatunafolkdansgille.se
SUMMARY:Folkdräktssömnad
DESCRIPTION:Forum\, Kvarnsveden\, Dräktrum\nVårens sista dräktsömnad.
URL:https://storatunafolkdansgille.se/event/draktsomnad-14/
END:VEVENT
BEGIN:VEVENT
DTSTART;TZID=Europe/Stockholm:20250527T192000
DTEND;TZID=Europe/Stockholm:20250527T210000
DTSTAMP:20260423T103504
CREATED:20241202T171932Z
LAST-MODIFIED:20241202T172002Z
UID:3608-1748373600-1748379600@storatunafolkdansgille.se
SUMMARY:Tisdagsgruppen vuxna dans
DESCRIPTION:Forum\, Kvarnsveden\, Pelarsalen.\nVårens sista träning.
URL:https://storatunafolkdansgille.se/event/tisdagsgruppen-vuxna-dans-6/
END:VEVENT
BEGIN:VEVENT
DTSTART;VALUE=DATE:20250528
DTEND;VALUE=DATE:20250529
DTSTAMP:20260423T103504
CREATED:20230302T202121Z
LAST-MODIFIED:20241201T201359Z
UID:2340-1748390400-1748476799@storatunafolkdansgille.se
SUMMARY:Nu tar vi sommarledigt och börjar igen vecka 36
DESCRIPTION:
URL:https://storatunafolkdansgille.se/event/nu-tar-vi-sommarledigt-och-borjar-igen-vecka-36/
END:VEVENT
BEGIN:VEVENT
DTSTART;VALUE=DATE:20250529
DTEND;VALUE=DATE:20250601
DTSTAMP:20260423T103504
CREATED:20241203T101352Z
LAST-MODIFIED:20250409T130937Z
UID:3626-1748476800-1748735999@storatunafolkdansgille.se
SUMMARY:Gammeldansweekend i Malung 2025
DESCRIPTION:För mera information: https://dansbandsveckan.se/gammaldansweekend/
URL:https://storatunafolkdansgille.se/event/gammeldansweekend-i-malung/
END:VEVENT
BEGIN:VEVENT
DTSTART;VALUE=DATE:20250529
DTEND;VALUE=DATE:20250530
DTSTAMP:20260423T103504
CREATED:20221115T161005Z
LAST-MODIFIED:20241202T174620Z
UID:2170-1748476800-1748563199@storatunafolkdansgille.se
SUMMARY:Kristi Himmelfärdsdag (helgdag)
DESCRIPTION:
URL:https://storatunafolkdansgille.se/event/kristi-himmelfardsdag-helgdag/
END:VEVENT
END:VCALENDAR