BEGIN:VCALENDAR
VERSION:2.0
PRODID:-//Stora Tuna Folkdansgille - ECPv6.15.20//NONSGML v1.0//EN
CALSCALE:GREGORIAN
METHOD:PUBLISH
X-ORIGINAL-URL:https://storatunafolkdansgille.se
X-WR-CALDESC:Händelser för Stora Tuna Folkdansgille
REFRESH-INTERVAL;VALUE=DURATION:PT1H
X-Robots-Tag:noindex
X-PUBLISHED-TTL:PT1H
BEGIN:VTIMEZONE
TZID:Europe/Stockholm
BEGIN:DAYLIGHT
TZOFFSETFROM:+0100
TZOFFSETTO:+0200
TZNAME:CEST
DTSTART:20240331T010000
END:DAYLIGHT
BEGIN:STANDARD
TZOFFSETFROM:+0200
TZOFFSETTO:+0100
TZNAME:CET
DTSTART:20241027T010000
END:STANDARD
BEGIN:DAYLIGHT
TZOFFSETFROM:+0100
TZOFFSETTO:+0200
TZNAME:CEST
DTSTART:20250330T010000
END:DAYLIGHT
BEGIN:STANDARD
TZOFFSETFROM:+0200
TZOFFSETTO:+0100
TZNAME:CET
DTSTART:20251026T010000
END:STANDARD
BEGIN:DAYLIGHT
TZOFFSETFROM:+0100
TZOFFSETTO:+0200
TZNAME:CEST
DTSTART:20260329T010000
END:DAYLIGHT
BEGIN:STANDARD
TZOFFSETFROM:+0200
TZOFFSETTO:+0100
TZNAME:CET
DTSTART:20261025T010000
END:STANDARD
END:VTIMEZONE
BEGIN:VEVENT
DTSTART;VALUE=DATE:20251207
DTEND;VALUE=DATE:20251208
DTSTAMP:20260420T145841
CREATED:20240714T074130Z
LAST-MODIFIED:20250707T145012Z
UID:3250-1765065600-1765151999@storatunafolkdansgille.se
SUMMARY:2:a Advent
DESCRIPTION:
URL:https://storatunafolkdansgille.se/event/2a-advent-2/
CATEGORIES:Helgdagar
END:VEVENT
BEGIN:VEVENT
DTSTART;VALUE=DATE:20251214
DTEND;VALUE=DATE:20251215
DTSTAMP:20260420T145841
CREATED:20240714T074217Z
LAST-MODIFIED:20250707T145112Z
UID:3252-1765670400-1765756799@storatunafolkdansgille.se
SUMMARY:3:e Advent
DESCRIPTION:
URL:https://storatunafolkdansgille.se/event/3e-advent-2/
CATEGORIES:Helgdagar
END:VEVENT
BEGIN:VEVENT
DTSTART;VALUE=DATE:20251221
DTEND;VALUE=DATE:20251222
DTSTAMP:20260420T145841
CREATED:20240714T074253Z
LAST-MODIFIED:20250707T145149Z
UID:3254-1766275200-1766361599@storatunafolkdansgille.se
SUMMARY:4:e Advent
DESCRIPTION:
URL:https://storatunafolkdansgille.se/event/4e-advent-2/
CATEGORIES:Helgdagar
END:VEVENT
END:VCALENDAR