BEGIN:VCALENDAR
VERSION:2.0
PRODID:-//Stora Tuna Folkdansgille - ECPv6.15.20//NONSGML v1.0//EN
CALSCALE:GREGORIAN
METHOD:PUBLISH
X-WR-CALNAME:Stora Tuna Folkdansgille
X-ORIGINAL-URL:https://storatunafolkdansgille.se
X-WR-CALDESC:Händelser för Stora Tuna Folkdansgille
REFRESH-INTERVAL;VALUE=DURATION:PT1H
X-Robots-Tag:noindex
X-PUBLISHED-TTL:PT1H
BEGIN:VTIMEZONE
TZID:Europe/Stockholm
BEGIN:DAYLIGHT
TZOFFSETFROM:+0100
TZOFFSETTO:+0200
TZNAME:CEST
DTSTART:20250330T010000
END:DAYLIGHT
BEGIN:STANDARD
TZOFFSETFROM:+0200
TZOFFSETTO:+0100
TZNAME:CET
DTSTART:20251026T010000
END:STANDARD
BEGIN:DAYLIGHT
TZOFFSETFROM:+0100
TZOFFSETTO:+0200
TZNAME:CEST
DTSTART:20260329T010000
END:DAYLIGHT
BEGIN:STANDARD
TZOFFSETFROM:+0200
TZOFFSETTO:+0100
TZNAME:CET
DTSTART:20261025T010000
END:STANDARD
BEGIN:DAYLIGHT
TZOFFSETFROM:+0100
TZOFFSETTO:+0200
TZNAME:CEST
DTSTART:20270328T010000
END:DAYLIGHT
BEGIN:STANDARD
TZOFFSETFROM:+0200
TZOFFSETTO:+0100
TZNAME:CET
DTSTART:20271031T010000
END:STANDARD
END:VTIMEZONE
BEGIN:VEVENT
DTSTART;TZID=Europe/Stockholm:20260421T190000
DTEND;TZID=Europe/Stockholm:20260421T210000
DTSTAMP:20260421T095609
CREATED:20251215T193737Z
LAST-MODIFIED:20251215T193737Z
UID:4116-1776798000-1776805200@storatunafolkdansgille.se
SUMMARY:Vuxengrupp Dans
DESCRIPTION:Pelarsalen\, Forum\, Kvarnsveden\nIngång källartrappa från Sveaborgsgatan.
URL:https://storatunafolkdansgille.se/event/vuxengrupp-dans-6/
END:VEVENT
END:VCALENDAR